BEGIN:VCALENDAR
METHOD:PUBLISH
PRODID:Data::ICal 0.13
VERSION:2.0
BEGIN:VEVENT
DESCRIPTION:Get tickets to see Tucker Wetmore, Saturday, July 18th at Everwise Amphitheater! 




Get Tickets
DTSTAMP:20260423T082314Z
DTSTART;TZID=America/Indiana/Indianapolis:20260718T014400
DTEND;TZID=America/Indiana/Indianapolis:20260718T014400
LOCATION:
SUMMARY:Get Tickets: Tucker Wetmore
UID:878045-1784339040-1784339040
END:VEVENT
END:VCALENDAR
