BEGIN:VCALENDAR
METHOD:PUBLISH
PRODID:Data::ICal 0.13
VERSION:2.0
BEGIN:VEVENT
DESCRIPTION:Charlie Puth is coming to TCU Amphitheater at White River State Park on June 21st!\n\n\n\n&nbsp;
DTSTAMP:20260421T081341Z
DTSTART;TZID=America/Indiana/Indianapolis:20230621T193000
DTEND;TZID=America/Indiana/Indianapolis:20230621T233000
LOCATION:801 W Washington St\, Indianapolis\, IN\, 46204
SUMMARY:Charlie Puth is Coming to TCU Amphitheater at White River State Park!
UID:69134-1687375800-1687390200
END:VEVENT
END:VCALENDAR
